BEGIN:VCALENDAR
VERSION:2.0
PRODID:ConsultVox
NAME:Réunion Publique : Projet d'Aménagement Éolien 🌬️
X-WR-CALNAME:Réunion Publique : Projet d'Aménagement Éolien 🌬️
BEGIN:VTIMEZONE
TZID:UTC
BEGIN:STANDARD
DTSTART:20240705T170000Z
TZOFFSETFROM:+0000
TZOFFSETTO:+0000
END:STANDARD
END:VTIMEZONE
BEGIN:VEVENT
UID:ZqkIXnmg5P
DTSTAMP:20260420T030239Z
SUMMARY:Réunion Publique : Projet d'Aménagement Éolien 🌬️
DESCRIPTION:(Attention ceci est un évènement fictif et ne reflète pas un
  réel projet) Cette rencontre offre une occasion de comprendre en détail
  les aspects techniques et esthétiques du projet\, ainsi que son implicat
 ion sur l'environnement et le paysage local.
LOCATION:Lille\, France
DTSTART:20250401T170000Z
DTEND:20250401T190000Z
GEO:50.62925;3.057256
END:VEVENT
END:VCALENDAR