BEGIN:VCALENDAR
VERSION:2.0
PRODID:ConsultVox
NAME:Réunion de lancement pour la 3e édition du budget participatif
X-WR-CALNAME:Réunion de lancement pour la 3e édition du budget participat
 if
BEGIN:VTIMEZONE
TZID:UTC
BEGIN:STANDARD
DTSTART:20250724T025935Z
TZOFFSETFROM:+0000
TZOFFSETTO:+0000
END:STANDARD
END:VTIMEZONE
BEGIN:VEVENT
UID:9r6rfrVZG4r
DTSTAMP:20260420T025935Z
SUMMARY:Réunion de lancement pour la 3e édition du budget participatif
DESCRIPTION:(Attention ceci est un évènement fictif qui n'aura pas lieu) 
 Vous êtes attendus le vendredi 6 septembre 2024 à 20h\, à l'hôtel de v
 ille\, pour la réunion de lancement du Budget participatif 2024.
LOCATION:Lomme\, Lille\, France
DTSTART:20270930T180000Z
DTEND:20270930T190000Z
GEO:50.6457268;2.9877112
END:VEVENT
END:VCALENDAR